BEGIN:VCALENDAR
VERSION:2.0
PRODID:-//Roller Sports Club Connerré - ECPv5.2.0//NONSGML v1.0//EN
CALSCALE:GREGORIAN
METHOD:PUBLISH
X-WR-CALNAME:Roller Sports Club Connerré
X-ORIGINAL-URL:http://www.rscconnerre.fr
X-WR-CALDESC:évènements pour Roller Sports Club Connerré
BEGIN:VTIMEZONE
TZID:Europe/Paris
BEGIN:DAYLIGHT
TZOFFSETFROM:+0100
TZOFFSETTO:+0200
TZNAME:CEST
DTSTART:20220327T010000
END:DAYLIGHT
BEGIN:STANDARD
TZOFFSETFROM:+0200
TZOFFSETTO:+0100
TZNAME:CET
DTSTART:20221030T010000
END:STANDARD
END:VTIMEZONE
BEGIN:VEVENT
DTSTART;TZID=Europe/Paris:20220521T100000
DTEND;TZID=Europe/Paris:20220521T170000
DTSTAMP:20260422T120853
CREATED:20220304T110525Z
LAST-MODIFIED:20220304T110525Z
UID:4353-1653127200-1653152400@www.rscconnerre.fr
SUMMARY:Course départementale : Connerré
DESCRIPTION:Ouverte aux compétiteurs et aux non compétiteurs.
URL:http://www.rscconnerre.fr/evenement/course-departementale-connerre-3/
LOCATION:Connerré – Piste Georges CHARLOT\, rue de Paris\, Connerré\, Sarthe\, 72160\, France
CATEGORIES:Compétitions
END:VEVENT
END:VCALENDAR